BEGIN:VCALENDAR
VERSION:2.0
PRODID:-//London: City of Languages - ECPv6.15.20//NONSGML v1.0//EN
CALSCALE:GREGORIAN
METHOD:PUBLISH
X-WR-CALNAME:London: City of Languages
X-ORIGINAL-URL:https://londoncityoflanguages.org.uk
X-WR-CALDESC:Events for London: City of Languages
REFRESH-INTERVAL;VALUE=DURATION:PT1H
X-Robots-Tag:noindex
X-PUBLISHED-TTL:PT1H
BEGIN:VTIMEZONE
TZID:Europe/London
BEGIN:DAYLIGHT
TZOFFSETFROM:+0000
TZOFFSETTO:+0100
TZNAME:BST
DTSTART:20240331T010000
END:DAYLIGHT
BEGIN:STANDARD
TZOFFSETFROM:+0100
TZOFFSETTO:+0000
TZNAME:GMT
DTSTART:20241027T010000
END:STANDARD
BEGIN:DAYLIGHT
TZOFFSETFROM:+0000
TZOFFSETTO:+0100
TZNAME:BST
DTSTART:20250330T010000
END:DAYLIGHT
BEGIN:STANDARD
TZOFFSETFROM:+0100
TZOFFSETTO:+0000
TZNAME:GMT
DTSTART:20251026T010000
END:STANDARD
BEGIN:DAYLIGHT
TZOFFSETFROM:+0000
TZOFFSETTO:+0100
TZNAME:BST
DTSTART:20260329T010000
END:DAYLIGHT
BEGIN:STANDARD
TZOFFSETFROM:+0100
TZOFFSETTO:+0000
TZNAME:GMT
DTSTART:20261025T010000
END:STANDARD
BEGIN:DAYLIGHT
TZOFFSETFROM:+0000
TZOFFSETTO:+0100
TZNAME:BST
DTSTART:20270328T010000
END:DAYLIGHT
BEGIN:STANDARD
TZOFFSETFROM:+0100
TZOFFSETTO:+0000
TZNAME:GMT
DTSTART:20271031T010000
END:STANDARD
END:VTIMEZONE
BEGIN:VEVENT
DTSTART;TZID=Europe/London:20260222T080000
DTEND;TZID=Europe/London:20260506T233000
DTSTAMP:20260425T162500
CREATED:20260222T160906Z
LAST-MODIFIED:20260324T170608Z
UID:1069-1771747200-1778110200@londoncityoflanguages.org.uk
SUMMARY:London Festival of Languages 26: Poster competition
DESCRIPTION:London: City of Languages is coordinating a ‘London Festival of Languages 2026’. The Festival will include a wide variety of activities\, both online and face to face\, when we can celebrate the rich diversity of languages used\, studied\, and loved across our city. \nTo advertise this\, we need a set of posters to display in schools\, cultural organisations and public spaces (e.g. libraries) to encourage people to go to our Festival of Languages Page on the website to find out what is on offer. \nWe invite pupils across London to design posters. Winning posters will be shared online and made available for schools and communities to download and use during the Summer Festival of Languages. \nSere more details and upload entries on our activity page here.
URL:https://londoncityoflanguages.org.uk/event-listing/london-festival-of-languages-26-poster-competition/
CATEGORIES:festival-26
END:VEVENT
BEGIN:VEVENT
DTSTART;TZID=Europe/London:20260117T100000
DTEND;TZID=Europe/London:20260117T140000
DTSTAMP:20260425T162500
CREATED:20250817T190638Z
LAST-MODIFIED:20250921T090206Z
UID:153-1768644000-1768658400@londoncityoflanguages.org.uk
SUMMARY:ALL London January Event 2026: 17/1/26
DESCRIPTION:Please save the date and see the ALL London site for updates.
URL:https://londoncityoflanguages.org.uk/event-listing/all-london-january-event-2026/
LOCATION:BFI\, London
END:VEVENT
BEGIN:VEVENT
DTSTART;TZID=Europe/London:20251105T123000
DTEND;TZID=Europe/London:20251105T173000
DTSTAMP:20260425T162500
CREATED:20251101T180206Z
LAST-MODIFIED:20251101T180206Z
UID:880-1762345800-1762363800@londoncityoflanguages.org.uk
SUMMARY:Language Diversity: Foreign Accents and Multilingualism in 21st Century Britain
DESCRIPTION: Hosted by: University of East London – School of Childhood and Social Care\n Convener: Dr Miha Constantinescu\n Location: The Dome\, University House\, Stratford Campus\n Date & Time: 5th November\, 13:00\n Free to attend – booking required due to limited capacity\n https://tinyurl.com/MultilingualismUEL\n\nA MESSAGE FROM THE ORGANISERS:\n\nThis interdisciplinary event brings together psychologists\, linguists\, philosophers\, and musicians to examine how language diversity intersects with education\, AI\, criminal justice\, and social environments. The workshop aims to raise awareness and foster positive change in attitudes toward foreign accents. \nSpeakers include: Prof Silke Paulmann (University of Essex)\, Dr Froso (Effrosyni) Argyri (UCL)\, Prof Lara Frumkin (Open University)\, Prof Rachel Wicaksono (UEL)\, Dr Virginia Lam (Roehampton)\, Dr James Carney (London Interdisciplinary School)\, Dr Cristian Constantinescu (London Interdisciplinary School)\, Dr Anna Stone (UEL)\, Dr Constantina Maltezou-Papastylianou\, (Essex). \nWe look forward to welcoming you!\nPlease feel free to share this invite with other colleagues who might be interested.
URL:https://londoncityoflanguages.org.uk/event-listing/language-diversity-foreign-accents-and-multilingualism-in-21st-century-britain/
END:VEVENT
BEGIN:VEVENT
DTSTART;TZID=Europe/London:20251013T170000
DTEND;TZID=Europe/London:20251013T180000
DTSTAMP:20260425T162500
CREATED:20250903T104332Z
LAST-MODIFIED:20250921T085904Z
UID:434-1760374800-1760378400@londoncityoflanguages.org.uk
SUMMARY:The ALL London Reception for Trainee Teachers: 13/10/25
DESCRIPTION:You’re Invited!\nALL London Welcome Event for Trainee Teachers\nFree\, Friendly & Fun – Monday 13th October 2025 at Senate House\, University of London. \nAre you a trainee teacher of languages – primary or secondary? Join us for a relaxed\, sociable late afternoon hosted by the ALL London branch of the   Association for Language Learning (ALL) – your national subject association for language teachers. \nPlease follow the Ticket Tailor link for more details.
URL:https://londoncityoflanguages.org.uk/event-listing/the-all-london-reception-for-trainee-teachers-13-10-25/
END:VEVENT
BEGIN:VEVENT
DTSTART;TZID=Europe/London:20250926T090000
DTEND;TZID=Europe/London:20250926T100000
DTSTAMP:20260425T162500
CREATED:20250902T163941Z
LAST-MODIFIED:20250921T090103Z
UID:357-1758877200-1758880800@londoncityoflanguages.org.uk
SUMMARY:Celebrate European Day of Languages: 26/9/25
DESCRIPTION:The British Council\, GCHQ and the National Consortium for Languages Education (NCLE)  would like to invite you and your pupils to an online (Microsoft Teams) event at 9am -10am on September 26\, to celebrate European Day of Languages.  There will be 3 speakers who will share their own language learning journey\, the languages that they have learned\, where they have travelled to\, the skills that learning languages can bring and how they use languages in their work. There will be a chance for pupils to ask questions.   Please register below.
URL:https://londoncityoflanguages.org.uk/event-listing/celebrate-european-day-of-languages/
END:VEVENT
BEGIN:VEVENT
DTSTART;TZID=Europe/London:20250621T100000
DTEND;TZID=Europe/London:20250621T143000
DTSTAMP:20260425T162500
CREATED:20250903T204334Z
LAST-MODIFIED:20250921T155509Z
UID:487-1750500000-1750516200@londoncityoflanguages.org.uk
SUMMARY:The ALL London June Event 2025
DESCRIPTION:
URL:https://londoncityoflanguages.org.uk/event-listing/the-all-london-june-event-2025/
END:VEVENT
END:VCALENDAR