BEGIN:VCALENDAR
VERSION:2.0
PRODID:-//London: City of Languages - ECPv6.15.20//NONSGML v1.0//EN
CALSCALE:GREGORIAN
METHOD:PUBLISH
X-ORIGINAL-URL:https://londoncityoflanguages.org.uk
X-WR-CALDESC:Events for London: City of Languages
REFRESH-INTERVAL;VALUE=DURATION:PT1H
X-Robots-Tag:noindex
X-PUBLISHED-TTL:PT1H
BEGIN:VTIMEZONE
TZID:Europe/London
BEGIN:DAYLIGHT
TZOFFSETFROM:+0000
TZOFFSETTO:+0100
TZNAME:BST
DTSTART:20250330T010000
END:DAYLIGHT
BEGIN:STANDARD
TZOFFSETFROM:+0100
TZOFFSETTO:+0000
TZNAME:GMT
DTSTART:20251026T010000
END:STANDARD
BEGIN:DAYLIGHT
TZOFFSETFROM:+0000
TZOFFSETTO:+0100
TZNAME:BST
DTSTART:20260329T010000
END:DAYLIGHT
BEGIN:STANDARD
TZOFFSETFROM:+0100
TZOFFSETTO:+0000
TZNAME:GMT
DTSTART:20261025T010000
END:STANDARD
BEGIN:DAYLIGHT
TZOFFSETFROM:+0000
TZOFFSETTO:+0100
TZNAME:BST
DTSTART:20270328T010000
END:DAYLIGHT
BEGIN:STANDARD
TZOFFSETFROM:+0100
TZOFFSETTO:+0000
TZNAME:GMT
DTSTART:20271031T010000
END:STANDARD
END:VTIMEZONE
BEGIN:VEVENT
DTSTART;TZID=Europe/London:20260605T130000
DTEND;TZID=Europe/London:20260605T140000
DTSTAMP:20260425T115437
CREATED:20260423T184121Z
LAST-MODIFIED:20260424T084325Z
UID:1313-1780664400-1780668000@londoncityoflanguages.org.uk
SUMMARY:A taster in ... Slovene!
DESCRIPTION:Step into a language where grammar still keeps a special seat just for two\, perfect for best friends\, couples\, or duos. It’s a rare feature in modern Europe and a great conversation starter for UK audiences interested in how language connects people. Add culture\, travel\, and a fresh linguistic perspective\, and you’ve got something truly memorable. \nThis free event for adults will be held online using Microsoft Teams.  Click here to register.
URL:https://londoncityoflanguages.org.uk/event-listing/a-taster-in-slovene/
LOCATION:Online
CATEGORIES:festival-26,Language-Taster,Slovene
ATTACH;FMTTYPE=image/jpeg:https://londoncityoflanguages.org.uk/wp-content/uploads/2026/04/Ana-Ilievska-Zavrsnik-LinkedIn-1597779247010.jpeg
END:VEVENT
END:VCALENDAR