BEGIN:VCALENDAR
VERSION:2.0
PRODID:-//London: City of Languages - ECPv6.15.20//NONSGML v1.0//EN
CALSCALE:GREGORIAN
METHOD:PUBLISH
X-WR-CALNAME:London: City of Languages
X-ORIGINAL-URL:https://londoncityoflanguages.org.uk
X-WR-CALDESC:Events for London: City of Languages
REFRESH-INTERVAL;VALUE=DURATION:PT1H
X-Robots-Tag:noindex
X-PUBLISHED-TTL:PT1H
BEGIN:VTIMEZONE
TZID:Europe/London
BEGIN:DAYLIGHT
TZOFFSETFROM:+0000
TZOFFSETTO:+0100
TZNAME:BST
DTSTART:20250330T010000
END:DAYLIGHT
BEGIN:STANDARD
TZOFFSETFROM:+0100
TZOFFSETTO:+0000
TZNAME:GMT
DTSTART:20251026T010000
END:STANDARD
BEGIN:DAYLIGHT
TZOFFSETFROM:+0000
TZOFFSETTO:+0100
TZNAME:BST
DTSTART:20260329T010000
END:DAYLIGHT
BEGIN:STANDARD
TZOFFSETFROM:+0100
TZOFFSETTO:+0000
TZNAME:GMT
DTSTART:20261025T010000
END:STANDARD
BEGIN:DAYLIGHT
TZOFFSETFROM:+0000
TZOFFSETTO:+0100
TZNAME:BST
DTSTART:20270328T010000
END:DAYLIGHT
BEGIN:STANDARD
TZOFFSETFROM:+0100
TZOFFSETTO:+0000
TZNAME:GMT
DTSTART:20271031T010000
END:STANDARD
END:VTIMEZONE
BEGIN:VEVENT
DTSTART;TZID=Europe/London:20260222T080000
DTEND;TZID=Europe/London:20260506T233000
DTSTAMP:20260421T092626
CREATED:20260222T160906Z
LAST-MODIFIED:20260324T170608Z
UID:1069-1771747200-1778110200@londoncityoflanguages.org.uk
SUMMARY:London Festival of Languages 26: Poster competition
DESCRIPTION:London: City of Languages is coordinating a ‘London Festival of Languages 2026’. The Festival will include a wide variety of activities\, both online and face to face\, when we can celebrate the rich diversity of languages used\, studied\, and loved across our city. \nTo advertise this\, we need a set of posters to display in schools\, cultural organisations and public spaces (e.g. libraries) to encourage people to go to our Festival of Languages Page on the website to find out what is on offer. \nWe invite pupils across London to design posters. Winning posters will be shared online and made available for schools and communities to download and use during the Summer Festival of Languages. \nSere more details and upload entries on our activity page here.
URL:https://londoncityoflanguages.org.uk/event-listing/london-festival-of-languages-26-poster-competition/
CATEGORIES:festival-26
END:VEVENT
BEGIN:VEVENT
DTSTART;TZID=Europe/London:20260317T080000
DTEND;TZID=Europe/London:20260731T170000
DTSTAMP:20260421T092626
CREATED:20260324T153724Z
LAST-MODIFIED:20260324T153844Z
UID:1175-1773734400-1785517200@londoncityoflanguages.org.uk
SUMMARY:Goethe Institut: Creating the world of Wuschel
DESCRIPTION:Exhibition of Axel Scheffler’s original sketches and illustrations for Wuschel auf der Erde \nIn this exhibition\, visitors are invited into the imaginative world of Axel Scheffler through a series of original illustrations. Known to many for iconic works such as The Gruffalo and Room on the Broom\, Axel here reveals his work created for Wuschel auf der Erde\, the Goethe-Institut’s primary German textbook published in autumn 2024. \nAlready part of the learning journey of more than 3\,600 young language enthusiasts across the UK\, the book introduces Wuschel and Miki—two new characters whose universe is both fantastical and warmly familiar. \nPresented together for the first time are early character studies\, developmental sketches\, and final artworks that illuminate Axel’s distinctive creative process. The evolution of these images—along with the typography and visual language that accompany them—offers an intimate glimpse behind the scenes. What emerges isa vibrant constellation of creatures\, forms\, and ideas\, each stage revealing the careful shaping of a world designed to spark curiosity\, delight\, and linguistic discovery
URL:https://londoncityoflanguages.org.uk/event-listing/creating-the-world-of-wuschel/
LOCATION:Goethe Institut\, 50 Princes Gate\, Exhibition Road\, London\, SW7 2PH\, United Kingdom
CATEGORIES:festival-26
END:VEVENT
BEGIN:VEVENT
DTSTART;TZID=Europe/London:20260505T101500
DTEND;TZID=Europe/London:20260505T153000
DTSTAMP:20260421T092626
CREATED:20260324T154157Z
LAST-MODIFIED:20260329T140213Z
UID:1181-1777976100-1777995000@londoncityoflanguages.org.uk
SUMMARY:Goethe Institut: German Day – Culture and Society KS3/4
DESCRIPTION:Target audience: Key Stages 3-4 with minimum one year of learning German \nActivities: \n\nWorkshop on culture and society in Germany (e.g. music\, art)\nYoung Goethe Presentation\nLibrary Hunt\nFilm screening “Als Hitler das rosa Kaninchen stahl”\, “Soul Kitchen”\, “Almanya”\, or “Die Pfefferkörner”\n\nGroup prices:\n1-25 students – GBP 175\n25-50 students – GBP 350\n51-65 students – GBP 455 \nParticipation is free of charge for accompanying teachers.
URL:https://londoncityoflanguages.org.uk/event-listing/goethe-institut-german-day-culture-and-society/
LOCATION:Goethe Institut\, 50 Princes Gate\, Exhibition Road\, London\, SW7 2PH\, United Kingdom
CATEGORIES:German
END:VEVENT
BEGIN:VEVENT
DTSTART;TZID=Europe/London:20260514T101500
DTEND;TZID=Europe/London:20260514T153000
DTSTAMP:20260421T092626
CREATED:20260324T155228Z
LAST-MODIFIED:20260329T140235Z
UID:1187-1778753700-1778772600@londoncityoflanguages.org.uk
SUMMARY:Goethe Institut: German Day – Taster Day KS2/3
DESCRIPTION:Taster day German \nKey stages 2-3 – Little to no prior knowledge of the German language \nActivities: \n\nWorkshop “German Taster Session”\nYoung Goethe Presentation\nLibrary Hunt\nMovie showing “Pünktchen und Anton” or fairy tale film\n\nGroup prices:\n1-25 students – GBP 175\n25-50 students – GBP 350\n51-65 students – GBP 455 \nParticipation is free of charge for accompanying teachers.
URL:https://londoncityoflanguages.org.uk/event-listing/goethe-institut-german-day-taster-day-ks2-3/
LOCATION:Goethe Institut\, 50 Princes Gate\, Exhibition Road\, London\, SW7 2PH\, United Kingdom
CATEGORIES:German
END:VEVENT
BEGIN:VEVENT
DTSTART;TZID=Europe/London:20260521T101500
DTEND;TZID=Europe/London:20260521T153000
DTSTAMP:20260421T092626
CREATED:20260324T154958Z
LAST-MODIFIED:20260329T135950Z
UID:1185-1779358500-1779377400@londoncityoflanguages.org.uk
SUMMARY:Goethe Institut: German Day – Culture and Society KS3/4
DESCRIPTION:Target audience: Key Stages 3-4 with minimum one year of learning German \nActivities: \n\nWorkshop on culture and society in Germany (e.g. music\, art)\nYoung Goethe Presentation\nLibrary Hunt\nFilm screening “Als Hitler das rosa Kaninchen stahl”\, “Soul Kitchen”\, “Almanya”\, or “Die Pfefferkörner”\n\nGroup prices:\n1-25 students – GBP 175\n25-50 students – GBP 350\n51-65 students – GBP 455 \nParticipation is free of charge for accompanying teachers.
URL:https://londoncityoflanguages.org.uk/event-listing/goethe-institut-german-day-culture-and-society-2/
LOCATION:Goethe Institut\, 50 Princes Gate\, Exhibition Road\, London\, SW7 2PH\, United Kingdom
CATEGORIES:German
END:VEVENT
BEGIN:VEVENT
DTSTART;TZID=Europe/London:20260609T101500
DTEND;TZID=Europe/London:20260609T153000
DTSTAMP:20260421T092626
CREATED:20260324T155345Z
LAST-MODIFIED:20260329T140028Z
UID:1189-1781000100-1781019000@londoncityoflanguages.org.uk
SUMMARY:Goethe Institut: German Day – Taster Day KS2/3
DESCRIPTION:Taster day German \nKey stages 2-3 – Little to no prior knowledge of the German language \nActivities: \n\nWorkshop “German Taster Session”\nYoung Goethe Presentation\nLibrary Hunt\nMovie showing “Pünktchen und Anton” or fairy tale film\n\nGroup prices:\n1-25 students – GBP 175\n25-50 students – GBP 350\n51-65 students – GBP 455 \nParticipation is free of charge for accompanying teachers.
URL:https://londoncityoflanguages.org.uk/event-listing/goethe-institut-german-day-taster-day-ks2-3-2/
LOCATION:Goethe Institut\, 50 Princes Gate\, Exhibition Road\, London\, SW7 2PH\, United Kingdom
CATEGORIES:German
END:VEVENT
BEGIN:VEVENT
DTSTART;TZID=Europe/London:20260613T100000
DTEND;TZID=Europe/London:20260613T140000
DTSTAMP:20260421T092626
CREATED:20260326T113102Z
LAST-MODIFIED:20260326T113216Z
UID:1273-1781344800-1781359200@londoncityoflanguages.org.uk
SUMMARY:ALL London June Event 2026: 13/6/26
DESCRIPTION:The ALL London June Event is going to be part of the Festival of Languages\, an opportunity for teachers to experience language tasters in less taught languages\, share ideas for competitions and plan a promotional campaign for the next academic year. \nPlease save the date and see the ALL London site for updates.
URL:https://londoncityoflanguages.org.uk/event-listing/all-london-june-event-2026-13-6-26/
LOCATION:The Grey Coat Hospital\, Greycoat Place\,\, London\, Select a State or Province:\, SW1P 2DY\, United Kingdom
CATEGORIES:festival-26
END:VEVENT
BEGIN:VEVENT
DTSTART;TZID=Europe/London:20260615T130000
DTEND;TZID=Europe/London:20260615T140000
DTSTAMP:20260421T092626
CREATED:20260420T152502Z
LAST-MODIFIED:20260420T154352Z
UID:1300-1781528400-1781532000@londoncityoflanguages.org.uk
SUMMARY:A taster in … Romanian
DESCRIPTION:Romanian\, the second most spoken language in London as of 2026. Can you believe it?\n\nYou are invited to spend an hour with Ramona Gonczol\, Associate Professor in Romanian studies at UCL (School of Slavonic and East European Studies)\, to be introduced to the basics of the beautiful Romanian language\, the closest to Latin amongst the Romance languages\, but also to some cultural facts\,  as well as to participate in interactive and fun activities where you can exercise your newly discovered Romanian tongue.\n\nThis free event will be held online using Microsoft Teams.  Click here to register.
URL:https://londoncityoflanguages.org.uk/event-listing/a-taster-in-romanian/
LOCATION:Online
CATEGORIES:festival-26,Language-Taster
ATTACH;FMTTYPE=image/jpeg:https://londoncityoflanguages.org.uk/wp-content/uploads/2026/04/Ramona-Gonczol.jpeg
END:VEVENT
BEGIN:VEVENT
DTSTART;TZID=Europe/London:20260616T101500
DTEND;TZID=Europe/London:20260616T153000
DTSTAMP:20260421T092626
CREATED:20260324T155937Z
LAST-MODIFIED:20260329T140101Z
UID:1197-1781604900-1781623800@londoncityoflanguages.org.uk
SUMMARY:Goethe Institut: Wuschel German Day – Taster Session - KS2
DESCRIPTION:Taster day German \nKey stages2 – Little to no prior knowledge of the German language \nActivities: \n\nInteractive Wuschel exhibition: Pupils learn their first German words and help “Wuschel” with his mission by working in teams to solve tasks and riddles at multi-media stations (approx. 2 hours)\nPupils learn more about Axel Scheffler’s creation process of Wuschel by viewing original sketches\nAfternoon: Movie showing “Das fliegende Klassenzimmer”\n\nDepending on age and language level of the students\, you can pick from a wide range of activities\, making the most suitable program for you at the Goethe-Institut London. \nGroup prices:\n1-25 students – GBP 175\n25-50 students – GBP 350\n51-65 students – GBP 455 \nParticipation is free of charge for accompanying teachers.
URL:https://londoncityoflanguages.org.uk/event-listing/goethe-institut-wuschel-german-day-taster-session-ks2/
LOCATION:Goethe Institut\, 50 Princes Gate\, Exhibition Road\, London\, SW7 2PH\, United Kingdom
CATEGORIES:German
END:VEVENT
BEGIN:VEVENT
DTSTART;TZID=Europe/London:20260617T180000
DTEND;TZID=Europe/London:20260617T200000
DTSTAMP:20260421T092626
CREATED:20251015T150034Z
LAST-MODIFIED:20260222T162635Z
UID:846-1781719200-1781726400@londoncityoflanguages.org.uk
SUMMARY:St Mary's University Modern Language Poetry Live event
DESCRIPTION:Competition – Poetry Live … en français\, auf deutsch\, en español\nBy invitation.   \nWhat is it?\nPoetry Live is a competition\, organised and hosted by St Mary’s University\, for Year 8 pupils from schools who regularly host St Mary’s trainee teachers on placement.  The focus is on spoken poetry performance in French\, German and Spanish. There are three main aims of the competition:\n• To celebrate language learning for pleasure and challenge\n• To develop memorisation and pronunciation skills\n• To explore literature and culture through poetry in another language\nWe have identified Year 8 pupils for this competition to motivate and encourage them at a crucial stage in their language learning. Please note that the competition is aimed at non-native speakers of the language. \n 
URL:https://londoncityoflanguages.org.uk/event-listing/st-marys-university-modern-language-poetry-live-event/
CATEGORIES:festival-26
END:VEVENT
BEGIN:VEVENT
DTSTART;TZID=Europe/London:20260625T101500
DTEND;TZID=Europe/London:20260625T153000
DTSTAMP:20260421T092626
CREATED:20260324T160112Z
LAST-MODIFIED:20260329T140142Z
UID:1199-1782382500-1782401400@londoncityoflanguages.org.uk
SUMMARY:Goethe Institut: Special German Day – Culture and Society - Pride Month - KS3/4
DESCRIPTION:Taster day German \nKey stages2 – Little to no prior knowledge of the German language \nTo celebrate queer culture and society in Germany\, we offer a Special German Day during Pride Month. \nActivities: \n\nWorkshop on queer culture and society in Germany\nYoung Goethe Presentation\nLibrary Hunt\nFilm screening\n\nGroup prices:\n1-25 students – GBP 175\n25-50 students – GBP 350\n51-65 students – GBP 455 \nParticipation is free of charge for accompanying teachers.
URL:https://londoncityoflanguages.org.uk/event-listing/goethe-institut-special-german-day-culture-and-society-pride-month-ks3-4/
LOCATION:Goethe Institut\, 50 Princes Gate\, Exhibition Road\, London\, SW7 2PH\, United Kingdom
CATEGORIES:German
END:VEVENT
BEGIN:VEVENT
DTSTART;TZID=Europe/London:20260630T090000
DTEND;TZID=Europe/London:20260630T100000
DTSTAMP:20260421T092626
CREATED:20260305T154307Z
LAST-MODIFIED:20260329T140837Z
UID:1084-1782810000-1782813600@londoncityoflanguages.org.uk
SUMMARY:Where will languages take me?
DESCRIPTION:A lively\, uplifting online session designed to help pupils see the real possibilities that languages open up and to encourage them to continue their language studies to GCSE level and beyond!  Teachers can register and project the session ‘live’ in classrooms\, or access the recording later to share with classes. \nSpeakers from across London will share their own language journeys: the languages they’ve learned\, the places to which they have travelled\, the people they’ve met\, the skills that learning languages have brought them and how they use languages in their work. \nOrganised by the British Council in partnership with London: City of Languages.\nRegistration required.\nJoin online and access the accompanying pupil booklet.\nSchools from across the UK are welcome to attend.
URL:https://londoncityoflanguages.org.uk/event-listing/where-will-languages-take-me/
LOCATION:Online
CATEGORIES:festival-26
END:VEVENT
BEGIN:VEVENT
DTSTART;TZID=Europe/London:20260702T101500
DTEND;TZID=Europe/London:20260702T153000
DTSTAMP:20260421T092626
CREATED:20260324T160259Z
LAST-MODIFIED:20260329T140314Z
UID:1201-1782987300-1783006200@londoncityoflanguages.org.uk
SUMMARY:Goethe Institut: German Day - Careers with German - KS4/5
DESCRIPTION:Target audience: Key Stage 4-5 with minimum two years of learning German \nActivities: \n\nWorkshop “Karriere mit Deutsch”\nYoung Goethe Presentation\nLibrary quiz\nMovie showing “Into the Beat” or “Der ganz große Traum”\n\nDepending on age and language level of the students\, you can pick from a wide range of activities\, making the most suitable program for you at the Goethe-Institut London. \nGroup prices:\n1-25 students – GBP 175\n25-50 students – GBP 350\n51-65 students – GBP 455 \nParticipation is free of charge for accompanying teachers.
URL:https://londoncityoflanguages.org.uk/event-listing/goethe-institut-german-day-careers-with-german-ks4-5/
LOCATION:Goethe Institut\, 50 Princes Gate\, Exhibition Road\, London\, SW7 2PH\, United Kingdom
CATEGORIES:German
END:VEVENT
BEGIN:VEVENT
DTSTART;TZID=Europe/London:20260707T101500
DTEND;TZID=Europe/London:20260707T153000
DTSTAMP:20260421T092626
CREATED:20260324T160342Z
LAST-MODIFIED:20260329T140404Z
UID:1203-1783419300-1783438200@londoncityoflanguages.org.uk
SUMMARY:Goethe Institut: German Day - Careers with German - KS4/5
DESCRIPTION:Target audience: Key Stage 4-5 with minimum two years of learning German \nActivities: \n\nWorkshop “Karriere mit Deutsch”\nYoung Goethe Presentation\nLibrary quiz\nMovie showing “Into the Beat” or “Der ganz große Traum”\n\nDepending on age and language level of the students\, you can pick from a wide range of activities\, making the most suitable program for you at the Goethe-Institut London. \nGroup prices:\n1-25 students – GBP 175\n25-50 students – GBP 350\n51-65 students – GBP 455 \nParticipation is free of charge for accompanying teachers.
URL:https://londoncityoflanguages.org.uk/event-listing/goethe-institut-german-day-careers-with-german-ks4-5-2/
LOCATION:Goethe Institut\, 50 Princes Gate\, Exhibition Road\, London\, SW7 2PH\, United Kingdom
CATEGORIES:German
END:VEVENT
BEGIN:VEVENT
DTSTART;TZID=Europe/London:20260716T101500
DTEND;TZID=Europe/London:20260716T153000
DTSTAMP:20260421T092626
CREATED:20260324T160439Z
LAST-MODIFIED:20260329T135636Z
UID:1205-1784196900-1784215800@londoncityoflanguages.org.uk
SUMMARY:Goethe Institut: German Day - Careers with German - KS4/5
DESCRIPTION:Target audience: Key Stage 4-5 with minimum two years of learning German \nActivities: \n\nWorkshop “Karriere mit Deutsch”\nYoung Goethe Presentation\nLibrary quiz\nMovie showing “Into the Beat” or “Der ganz große Traum”\n\nDepending on age and language level of the students\, you can pick from a wide range of activities\, making the most suitable program for you at the Goethe-Institut London. \nGroup prices:\n1-25 students – GBP 175\n25-50 students – GBP 350\n51-65 students – GBP 455 \nParticipation is free of charge for accompanying teachers.
URL:https://londoncityoflanguages.org.uk/event-listing/goethe-institut-german-day-careers-with-german-ks4-5-3/
LOCATION:Goethe Institut\, 50 Princes Gate\, Exhibition Road\, London\, SW7 2PH\, United Kingdom
END:VEVENT
BEGIN:VEVENT
DTSTART;TZID=Europe/London:20260907T080000
DTEND;TZID=Europe/London:20260911T170000
DTSTAMP:20260421T092626
CREATED:20260316T214306Z
LAST-MODIFIED:20260316T214459Z
UID:1156-1788768000-1789146000@londoncityoflanguages.org.uk
SUMMARY:Culture week: Bobby Moore Academy
DESCRIPTION:We are delighted to hear that Bobby Moore Academy celebrates a ‘Culture Week’ in the week beginning Monday 7th September 2026. \nIt is a private event by invitation only. \nTo find out more\, please mail Alina Cekic. \nThank you. \n 
URL:https://londoncityoflanguages.org.uk/event-listing/culture-week-bobby-moore-academy/
END:VEVENT
END:VCALENDAR